Workbook
Name BlijfKansenLftdGesl: """!#REF!"""
Name BlijfKansenLftdGesl: """!#REF!"""
Name BlijfKansenLftdGesl: """!#REF!"""
Name BlijfKansenLftdGesl: """!#REF!"""
Name BlijfkansenPerWoonGem2016: """!#REF!"""
Name BlijfkansenPerWoonGem2016: """!#REF!"""
Name BlijfkansenPerWoonGem2016: """!#REF!"""
Name BlijfkansenPerWoonGem2016: """!#REF!"""
Name budgetjaar: """!#REF!"""
Name budgetjaar: """!#REF!"""
Name budgetjaar: """!#REF!"""
Name budgetjaar: """!#REF!"""
Name inw_tkam: """!#REF!"""
Name inw_tkam: """!#REF!"""
Name inw_tkam: """!#REF!"""
Name inw_tkam: """!#REF!"""
Name realisatie_wsw: """!#REF!"""
Name realisatie_wsw: """!#REF!"""
Name realisatie_wsw: """!#REF!"""
Name realisatie_wsw: """!#REF!"""

Sheet Budget op gemeenteniveau
A1: TOTAAL | B1: <= Vul hier je gemeentenaam in
A3: (bedragen in duizenden euro's) | B3: 2025 | C3: 2026 | D3: 2027 | E3: 2028 | F3: 2029 | G3: 2030
A5: Stand decembercirculaire 2024 = septembercirculaire 2024
A6: Rijksbijdrage Wsw | B6: =VLOOKUP($A$1,'Participatie_2024_-_2029'!$C:Z,8,0)/1000 -> 1822051 | C6: =VLOOKUP($A$1,'Participatie_2024_-_2029'!$C:AA,12,0)/1000 -> 1745161 | D6: =VLOOKUP($A$1,'Participatie_2024_-_2029'!$C:AB,16,0)/1000 -> 1668336 | E6: =VLOOKUP($A$1,'Participatie_2024_-_2029'!$C:AC,20,0)/1000 -> 1592187 | F6: =VLOOKUP($A$1,'Participatie_2024_-_2029'!$C:AD,24,0)/1000 -> 1516039 | G6: =IFERROR(F6,F6*G20/F20) -> 1516039
A7: Rijksbijdrage beschut werk | B7: =VLOOKUP($A$1,'Participatie_2024_-_2029'!$C:Z,7,0)/1000 -> 137335 | C7: =VLOOKUP($A$1,'Participatie_2024_-_2029'!$C:AA,11,0)/1000 -> 147681 | D7: =VLOOKUP($A$1,'Participatie_2024_-_2029'!$C:AB,15,0)/1000 -> 158025 | E7: =VLOOKUP($A$1,'Participatie_2024_-_2029'!$C:AC,19,0)/1000 -> 168251 | F7: =VLOOKUP($A$1,'Participatie_2024_-_2029'!$C:AD,23,0)/1000 -> 178597 | G7: =F7*G21/F21 -> 190517.9
A8: Rijksbijdrage sociale infrastructuur
A9: Totaal IU Participatie | B9: =SUM(B6:B8) -> 1959386 | C9: =SUM(C6:C8) -> 1892842 | D9: =SUM(D6:D8) -> 1826361 | E9: =SUM(E6:E8) -> 1760438 | F9: =SUM(F6:F8) -> 1694636 | G9: =SUM(G6:G8) -> 1706556.9
A11: Mutaties meicirculaire 2025
A12: Rijksbijdrage Wsw - compensatie LIV 2025 | B12: ='Macrobudget 2025-2030'!B13/'Macrobudget 2025-2030'!B14*'Budget op gemeenteniveau'!B13 -> 8935
A13: Loon- en prijsbijstelling Rijksbijdrage WSW 5,3% | B13: ='Macrobudget 2025-2030'!B14/'Macrobudget 2025-2030'!B19*'Budget op gemeenteniveau'!B20 -> 95762 | C13: ='Macrobudget 2025-2030'!C14/'Macrobudget 2025-2030'!C19*'Budget op gemeenteniveau'!C20 -> 91721 | D13: ='Macrobudget 2025-2030'!D14/'Macrobudget 2025-2030'!D19*'Budget op gemeenteniveau'!D20 -> 87684 | E13: ='Macrobudget 2025-2030'!E14/'Macrobudget 2025-2030'!E19*'Budget op gemeenteniveau'!E20 -> 83681 | F13: ='Macrobudget 2025-2030'!F14/'Macrobudget 2025-2030'!F19*'Budget op gemeenteniveau'!F20 -> 79679 | G13: ='Macrobudget 2025-2030'!G14/'Macrobudget 2025-2030'!G19*'Budget op gemeenteniveau'!G20 -> 75680
A14: Rijksbijdrage WSW - herverdeeleffect t.o.v. septembercirculaire 2024 | B14: =B20-B12-B13-B6 -> 0 | C14: =C20-C12-C13-C6 -> 0 | D14: =D20-D12-D13-D6 -> 0 | E14: =E20-E12-E13-E6 -> 0 | F14: =F20-F12-F13-F6 -> 0 | G14: =G20-G12-G13-G6 -> -76087
A15: Loon- en prijsbijstelling Rijksbijdrage Beschut werk 4,8% | B15: =B21-B7 -> 6614 | C15: =C21-C7 -> 7112 | D15: =D21-D7 -> 7609 | E15: =E21-E7 -> 8103 | F15: =F21-F7 -> 8601 | G15: =G21-G7 -> 9175.0953
A16: Rijksbijdrage sociale infrastructuur | B16: =B22 -> 19800 | C16: =C22 -> 21427 | D16: =D22 -> 23056 | E16: =E22 -> 24687 | F16: =F22 -> 26321 | G16: =G22 -> 28097
A17: Totaalmutatie meicirculaire 2025 | B17: =SUM(B12:B16) -> 131111 | C17: =SUM(C12:C16) -> 120260 | D17: =SUM(D12:D16) -> 118349 | E17: =SUM(E12:E16) -> 116471 | F17: =SUM(F12:F16) -> 114601 | G17: =SUM(G12:G16) -> 36865.095
A19: Stand meicirculaire 2025
A20: Rijksbijdrage Wsw | B20: =VLOOKUP($A$1,'IU Participatie 2025-2030'!$C:$AF,3,0)/1000 -> 1926748 | C20: =VLOOKUP($A$1,'IU Participatie 2025-2030'!$C:$AF,8,0)/1000 -> 1836882 | D20: =VLOOKUP($A$1,'IU Participatie 2025-2030'!$C:$AF,13,0)/1000 -> 1756020 | E20: =VLOOKUP($A$1,'IU Participatie 2025-2030'!$C:$AF,18,0)/1000 -> 1675868 | F20: =VLOOKUP($A$1,'IU Participatie 2025-2030'!$C:$AF,23,0)/1000 -> 1595718 | G20: =VLOOKUP($A$1,'IU Participatie 2025-2030'!$C:$AF,28,0)/1000 -> 1515632
A21: Rijksbijdrage beschut werk | B21: =VLOOKUP($A$1,'IU Participatie 2025-2030'!$C:$AF,4,0)/1000 -> 143949 | C21: =VLOOKUP($A$1,'IU Participatie 2025-2030'!$C:$AF,9,0)/1000 -> 154793 | D21: =VLOOKUP($A$1,'IU Participatie 2025-2030'!$C:$AF,14,0)/1000 -> 165634 | E21: =VLOOKUP($A$1,'IU Participatie 2025-2030'!$C:$AF,19,0)/1000 -> 176354 | F21: =VLOOKUP($A$1,'IU Participatie 2025-2030'!$C:$AF,24,0)/1000 -> 187198 | G21: =VLOOKUP($A$1,'IU Participatie 2025-2030'!$C:$AF,29,0)/1000 -> 199693
A22: Rijksbijdrage sociale infrastructuur | B22: =VLOOKUP($A$1,'IU Participatie 2025-2030'!$C:$AF,5,0)/1000 -> 19800 | C22: =VLOOKUP($A$1,'IU Participatie 2025-2030'!$C:$AF,10,0)/1000 -> 21427 | D22: =VLOOKUP($A$1,'IU Participatie 2025-2030'!$C:$AF,15,0)/1000 -> 23056 | E22: =VLOOKUP($A$1,'IU Participatie 2025-2030'!$C:$AF,20,0)/1000 -> 24687 | F22: =VLOOKUP($A$1,'IU Participatie 2025-2030'!$C:$AF,25,0)/1000 -> 26321 | G22: =VLOOKUP($A$1,'IU Participatie 2025-2030'!$C:$AF,30,0)/1000 -> 28097
A23: Totaal IU Participatie | B23: =SUM(B20:B22) -> 2090497 | C23: =SUM(C20:C22) -> 2013102 | D23: =SUM(D20:D22) -> 1944710 | E23: =SUM(E20:E22) -> 1876909 | F23: =SUM(F20:F22) -> 1809237 | G23: =SUM(G20:G22) -> 1743422

Sheet Macrobudget 2025-2030
A1: Participatie - Macrobudget 2025 - 2030, meicirculaire 2025
A3: Macrobedragen 2025-2030
A4: (bedragen in miljoenen euro's) | B4: 2025 | C4: 2026 | D4: 2027 | E4: 2028 | F4: 2029 | G4: 2030
A6: Stand decembercirculaire 2024 = septembercirculaire 2024
A7: Rijksbijdrage Wsw | B7: 1822.051 | C7: 1745.161 | D7: 1668.336 | E7: 1592.187 | F7: 1516.039 | G7: 1439.952
A8: Rijksbijdrage beschut werk | B8: 137.335 | C8: 147.681 | D8: 158.024 | E8: 168.251 | F8: 178.597 | G8: 190.518
A9: Rijksbijdrage sociale infrastructuur
A10: Totaal IU Participatie | B10: 1959.386 | C10: 1892.842 | D10: 1826.36 | E10: 1760.438 | F10: 1694.636 | G10: 1630.47
A12: Mutaties meicirculaire 2025
A13: Rijksbijdrage Wsw - compensatie LIV 2025 | B13: 8.935
A14: Loon- en prijsbijstelling Rijksbijdrage WSW | B14: 95.762 | C14: 91.721 | D14: 87.684 | E14: 83.681 | F14: 79.679 | G14: 75.68
A15: Loon- en prijsbijstelling Rijksbijdrage Beschut werk | B15: 6.614 | C15: 7.112 | D15: 7.61 | E15: 8.103 | F15: 8.601 | G15: 9.175
A16: Rijksbijdrage sociale infrastructuur | B16: 19.8 | C16: 21.427 | D16: 23.056 | E16: 24.687 | F16: 26.321 | G16: 28.097
A18: Stand meicirculaire 2025
A19: Rijksbijdrage Wsw | B19: 1926.748 | C19: 1836.882 | D19: 1756.02 | E19: 1675.868 | F19: 1595.718 | G19: 1515.632
A20: Rijksbijdrage beschut werk | B20: 143.949 | C20: 154.793 | D20: 165.634 | E20: 176.354 | F20: 187.198 | G20: 199.693
A21: Rijksbijdrage sociale infrastructuur | B21: 19.8 | C21: 21.427 | D21: 23.056 | E21: 24.687 | F21: 26.321 | G21: 28.097
A22: Totaal IU Participatie | B22: 2090.497 | C22: 2013.102 | D22: 1944.71 | E22: 1876.909 | F22: 1809.237 | G22: 1743.422

Sheet IU Participatie 2025-2030
A1: Participatie - Bedragen per gemeente 2025 - 2030, meicirculaire 2025
C3: 1 | D3: 2 | E3: 3 | F3: 4 | G3: 5 | H3: 6 | I3: 7 | J3: 8 | K3: 9 | L3: 10 | M3: 11 | N3: 12 | O3: 13 | P3: 14 | Q3: 15 | R3: 16 | S3: 17 | T3: 18 | U3: 19 | V3: 20 | W3: 21 | X3: 22 | Y3: 23 | Z3: 24 | AA3: 25 | AB3: 26 | AC3: 27 | AD3: 28 | AE3: 29 | AF3: 30
B5: Stand meicirculaire 2025
B6: Gemeentelijke indeling 2025
D7: 2025 | I7: 2026 | N7: 2027 | S7: 2028 | X7: 2029 | AC7: 2030
B9: CBS-code | C9: Gemeente | D9: Totaal budget | E9: WSW | F9: Beschut werk | G9: Sociale infrastructuur | I9: Totaal budget | J9: WSW | K9: Beschut werk | L9: Sociale infrastructuur | N9: Totaal budget | O9: WSW | P9: Beschut werk | Q9: Sociale infrastructuur | S9: Totaal budget | T9: WSW | U9: Beschut werk | V9: Sociale infrastructuur | X9: Totaal budget | Y9: WSW | Z9: Beschut werk | AA9: Sociale infrastructuur | AC9: Totaal budget | AD9: WSW | AE9: Beschut werk | AF9: Sociale infrastructuur
C10: TOTAAL | D10: =SUM(D11:D352) -> 2.090497e+09 | E10: =SUM(E11:E352) -> 1.926748e+09 | F10: =SUM(F11:F352) -> 1.43949e+08 | G10: =SUM(G11:G352) -> 19800000 | I10: =SUM(I11:I352) -> 2.013102e+09 | J10: =SUM(J11:J352) -> 1.836882e+09 | K10: =SUM(K11:K352) -> 1.54793e+08 | L10: =SUM(L11:L352) -> 21427000 | N10: =SUM(N11:N352) -> 1.94471e+09 | O10: =SUM(O11:O352) -> 1.75602e+09 | P10: =SUM(P11:P352) -> 1.65634e+08 | Q10: =SUM(Q11:Q352) -> 23056000 | S10: =SUM(S11:S352) -> 1.876909e+09 | T10: =SUM(T11:T352) -> 1.675868e+09 | U10: =SUM(U11:U352) -> 1.76354e+08 | V10: =SUM(V11:V352) -> 24687000 | X10: =SUM(X11:X352) -> 1.809237e+09 | Y10: =SUM(Y11:Y352) -> 1.595718e+09 | Z10: =SUM(Z11:Z352) -> 1.87198e+08 | AA10: =SUM(AA11:AA352) -> 26321000 | AC10: =SUM(AC11:AC352) -> 1.743422e+09 | AD10: =SUM(AD11:AD352) -> 1.515632e+09 | AE10: =SUM(AE11:AE352) -> 199693000 | AF10: =SUM(AF11:AF352) -> 28097000
B11: 1680 | C11: Aa en Hunze | D11: =SUM(E11:G11) -> 146969.94 | E11: =IFERROR(VLOOKUP($B11,'WSW2025'!$R$13:$T$334,3,FALSE()),0) -> 0 | F11: =IFERROR(VLOOKUP(B11,'BESCHUT WERK 2025'!$K$13:$M$354,3,FALSE()),0) -> 124111.03 | G11: =IFERROR(VLOOKUP(B11,'SOCIALE INFRASTRUCTUUR 2025'!$K$13:$M$354,3,FALSE()),0) -> 22858.911 | I11: =SUM(J11:L11) -> 158203.26 | J11: =IFERROR(VLOOKUP($B11,'WSW2025'!$R$13:$U$334,4,FALSE()),0) -> 0 | K11: =IFERROR(VLOOKUP(B11,'BESCHUT WERK 2025'!$K$13:$N$354,4,FALSE()),0) -> 133465.99 | L11: =IFERROR(VLOOKUP(B11,'SOCIALE INFRASTRUCTUUR 2025'!$K$13:$N$354,4,FALSE()),0) -> 24737.267 | N11: =SUM(O11:Q11) -> 169435.62 | O11: =IFERROR(VLOOKUP($B11,'WSW2025'!$R$13:$V$334,5,FALSE()),0) -> 0 | P11: =IFERROR(VLOOKUP(B11,'BESCHUT WERK 2025'!$K$13:$O$354,5,FALSE()),0) -> 142817.69 | Q11: =IFERROR(VLOOKUP(B11,'SOCIALE INFRASTRUCTUUR 2025'!$K$13:$O$354,5,FALSE()),0) -> 26617.932 | S11: =SUM(T11:V11) -> 180565.3 | T11: =IFERROR(VLOOKUP($B11,'WSW2025'!$R$13:$W$334,6,FALSE()),0) -> 0 | U11: =IFERROR(VLOOKUP(B11,'BESCHUT WERK 2025'!$K$13:$P$354,6,FALSE()),0) -> 152064.39 | V11: =IFERROR(VLOOKUP(B11,'SOCIALE INFRASTRUCTUUR 2025'!$K$13:$P$354,6,FALSE()),0) -> 28500.905 | X11: =SUM(Y11:AA11) -> 191805.37 | Y11: =IFERROR(VLOOKUP($B11,'WSW2025'!$R$13:$X$334,7,FALSE()),0) -> 0 | Z11: =IFERROR(VLOOKUP(B11,'BESCHUT WERK 2025'!$K$13:$Q$354,7,FALSE()),0) -> 161418.03 | AA11: =IFERROR(VLOOKUP(B11,'SOCIALE INFRASTRUCTUUR 2025'!$K$13:$Q$354,7,FALSE()),0) -> 30387.343 | AC11: =SUM(AD11:AF11) -> 204633.47 | AD11: =IFERROR(VLOOKUP($B11,'WSW2025'!$R$13:$Y$334,8,FALSE()),0) -> 0 | AE11: =IFERROR(VLOOKUP(B11,'BESCHUT WERK 2025'!$K$13:$R$354,8,FALSE()),0) -> 172195.75 | AF11: =IFERROR(VLOOKUP(B11,'SOCIALE INFRASTRUCTUUR 2025'!$K$13:$R$354,8,FALSE()),0) -> 32437.718
B12: 358 | C12: Aalsmeer | D12: =SUM(E12:G12) -> 963730.72 | E12: =IFERROR(VLOOKUP($B12,'WSW2025'!$R$13:$T$334,3,FALSE()),0) -> 833571.58 | F12: =IFERROR(VLOOKUP(B12,'BESCHUT WERK 2025'!$K$13:$M$354,3,FALSE()),0) -> 112828.2 | G12: =IFERROR(VLOOKUP(B12,'SOCIALE INFRASTRUCTUUR 2025'!$K$13:$M$354,3,FALSE()),0) -> 17330.939 | I12: =SUM(J12:L12) -> 892489.22 | J12: =IFERROR(VLOOKUP($B12,'WSW2025'!$R$13:$U$334,4,FALSE()),0) -> 752401.45 | K12: =IFERROR(VLOOKUP(B12,'BESCHUT WERK 2025'!$K$13:$N$354,4,FALSE()),0) -> 121332.72 | L12: =IFERROR(VLOOKUP(B12,'SOCIALE INFRASTRUCTUUR 2025'!$K$13:$N$354,4,FALSE()),0) -> 18755.052 | N12: =SUM(O12:Q12) -> 907700 | O12: =IFERROR(VLOOKUP($B12,'WSW2025'!$R$13:$V$334,5,FALSE()),0) -> 757684.82 | P12: =IFERROR(VLOOKUP(B12,'BESCHUT WERK 2025'!$K$13:$O$354,5,FALSE()),0) -> 129834.27 | Q12: =IFERROR(VLOOKUP(B12,'SOCIALE INFRASTRUCTUUR 2025'!$K$13:$O$354,5,FALSE()),0) -> 20180.915 | S12: =SUM(T12:V12) -> 880467.71 | T12: =IFERROR(VLOOKUP($B12,'WSW2025'!$R$13:$W$334,6,FALSE()),0) -> 720618.82 | U12: =IFERROR(VLOOKUP(B12,'BESCHUT WERK 2025'!$K$13:$P$354,6,FALSE()),0) -> 138240.36 | V12: =IFERROR(VLOOKUP(B12,'SOCIALE INFRASTRUCTUUR 2025'!$K$13:$P$354,6,FALSE()),0) -> 21608.53 | X12: =SUM(Y12:AA12) -> 840732.73 | Y12: =IFERROR(VLOOKUP($B12,'WSW2025'!$R$13:$X$334,7,FALSE()),0) -> 670950.3 | Z12: =IFERROR(VLOOKUP(B12,'BESCHUT WERK 2025'!$K$13:$Q$354,7,FALSE()),0) -> 146743.66 | AA12: =IFERROR(VLOOKUP(B12,'SOCIALE INFRASTRUCTUUR 2025'!$K$13:$Q$354,7,FALSE()),0) -> 23038.77 | AC12: =SUM(AD12:AF12) -> 834188.47 | AD12: =IFERROR(VLOOKUP($B12,'WSW2025'!$R$13:$Y$334,8,FALSE()),0) -> 653053.57 | AE12: =IFERROR(VLOOKUP(B12,'BESCHUT WERK 2025'!$K$13:$R$354,8,FALSE()),0) -> 156541.59 | AF12: =IFERROR(VLOOKUP(B12,'SOCIALE INFRASTRUCTUUR 2025'!$K$13:$R$354,8,FALSE()),0) -> 24593.302
B13: 197 | C13: Aalten | D13: =SUM(E13:G13) -> 6913517.2 | E13: =IFERROR(VLOOKUP($B13,'WSW2025'!$R$13:$T$334,3,FALSE()),0) -> 6745702.5 | F13: =IFERROR(VLOOKUP(B13,'BESCHUT WERK 2025'!$K$13:$M$354,3,FALSE()),0) -> 135393.85 | G13: =IFERROR(VLOOKUP(B13,'SOCIALE INFRASTRUCTUUR 2025'!$K$13:$M$354,3,FALSE()),0) -> 32420.808 | I13: =SUM(J13:L13) -> 6486799 | J13: =IFERROR(VLOOKUP($B13,'WSW2025'!$R$13:$U$334,4,FALSE()),0) -> 6306114.9 | K13: =IFERROR(VLOOKUP(B13,'BESCHUT WERK 2025'!$K$13:$N$354,4,FALSE()),0) -> 145599.26 | L13: =IFERROR(VLOOKUP(B13,'SOCIALE INFRASTRUCTUUR 2025'!$K$13:$N$354,4,FALSE()),0) -> 35084.881 | N13: =SUM(O13:Q13) -> 6240619.4 | O13: =IFERROR(VLOOKUP($B13,'WSW2025'!$R$13:$V$334,5,FALSE()),0) -> 6047066.1 | P13: =IFERROR(VLOOKUP(B13,'BESCHUT WERK 2025'!$K$13:$O$354,5,FALSE()),0) -> 155801.12 | Q13: =IFERROR(VLOOKUP(B13,'SOCIALE INFRASTRUCTUUR 2025'!$K$13:$O$354,5,FALSE()),0) -> 37752.23 | S13: =SUM(T13:V13) -> 5834538 | T13: =IFERROR(VLOOKUP($B13,'WSW2025'!$R$13:$W$334,6,FALSE()),0) -> 5628226.7 | U13: =IFERROR(VLOOKUP(B13,'BESCHUT WERK 2025'!$K$13:$P$354,6,FALSE()),0) -> 165888.43 | V13: =IFERROR(VLOOKUP(B13,'SOCIALE INFRASTRUCTUUR 2025'!$K$13:$P$354,6,FALSE()),0) -> 40422.853 | X13: =SUM(Y13:AA13) -> 5436574.6 | Y13: =IFERROR(VLOOKUP($B13,'WSW2025'!$R$13:$X$334,7,FALSE()),0) -> 5217383.8 | Z13: =IFERROR(VLOOKUP(B13,'BESCHUT WERK 2025'!$K$13:$Q$354,7,FALSE()),0) -> 176092.4 | AA13: =IFERROR(VLOOKUP(B13,'SOCIALE INFRASTRUCTUUR 2025'!$K$13:$Q$354,7,FALSE()),0) -> 43098.388 | AC13: =SUM(AD13:AF13) -> 5066568.9 | AD13: =IFERROR(VLOOKUP($B13,'WSW2025'!$R$13:$Y$334,8,FALSE()),0) -> 4832712.6 | AE13: =IFERROR(VLOOKUP(B13,'BESCHUT WERK 2025'!$K$13:$R$354,8,FALSE()),0) -> 187849.91 | AF13: =IFERROR(VLOOKUP(B13,'SOCIALE INFRASTRUCTUUR 2025'!$K$13:$R$354,8,FALSE()),0) -> 46006.436
B14: 59 | C14: Achtkarspelen | D14: =SUM(E14:G14) -> 5448678.3 | E14: =IFERROR(VLOOKUP($B14,'WSW2025'!$R$13:$T$334,3,FALSE()),0) -> 5246399.6 | F14: =IFERROR(VLOOKUP(B14,'BESCHUT WERK 2025'!$K$13:$M$354,3,FALSE()),0) -> 166421.6 | G14: =IFERROR(VLOOKUP(B14,'SOCIALE INFRASTRUCTUUR 2025'!$K$13:$M$354,3,FALSE()),0) -> 35857.115 | I14: =SUM(J14:L14) -> 5383018.5 | J14: =IFERROR(VLOOKUP($B14,'WSW2025'!$R$13:$U$334,4,FALSE()),0) -> 5165249.2 | K14: =IFERROR(VLOOKUP(B14,'BESCHUT WERK 2025'!$K$13:$N$354,4,FALSE()),0) -> 178965.76 | L14: =IFERROR(VLOOKUP(B14,'SOCIALE INFRASTRUCTUUR 2025'!$K$13:$N$354,4,FALSE()),0) -> 38803.556 | N14: =SUM(O14:Q14) -> 5093186.8 | O14: =IFERROR(VLOOKUP($B14,'WSW2025'!$R$13:$V$334,5,FALSE()),0) -> 4859927.7 | P14: =IFERROR(VLOOKUP(B14,'BESCHUT WERK 2025'!$K$13:$O$354,5,FALSE()),0) -> 191505.54 | Q14: =IFERROR(VLOOKUP(B14,'SOCIALE INFRASTRUCTUUR 2025'!$K$13:$O$354,5,FALSE()),0) -> 41753.618 | S14: =SUM(T14:V14) -> 4868399.8 | T14: =IFERROR(VLOOKUP($B14,'WSW2025'!$R$13:$W$334,6,FALSE()),0) -> 4619787.9 | U14: =IFERROR(VLOOKUP(B14,'BESCHUT WERK 2025'!$K$13:$P$354,6,FALSE()),0) -> 203904.53 | V14: =IFERROR(VLOOKUP(B14,'SOCIALE INFRASTRUCTUUR 2025'!$K$13:$P$354,6,FALSE()),0) -> 44707.303 | X14: =SUM(Y14:AA14) -> 4719356.8 | Y14: =IFERROR(VLOOKUP($B14,'WSW2025'!$R$13:$X$334,7,FALSE()),0) -> 4455243.4 | Z14: =IFERROR(VLOOKUP(B14,'BESCHUT WERK 2025'!$K$13:$Q$354,7,FALSE()),0) -> 216446.9 | AA14: =IFERROR(VLOOKUP(B14,'SOCIALE INFRASTRUCTUUR 2025'!$K$13:$Q$354,7,FALSE()),0) -> 47666.42 | AC14: =SUM(AD14:AF14) -> 4596207.8 | AD14: =IFERROR(VLOOKUP($B14,'WSW2025'!$R$13:$Y$334,8,FALSE()),0) -> 4314426.2 | AE14: =IFERROR(VLOOKUP(B14,'BESCHUT WERK 2025'!$K$13:$R$354,8,FALSE()),0) -> 230898.85 | AF14: =IFERROR(VLOOKUP(B14,'SOCIALE INFRASTRUCTUUR 2025'!$K$13:$R$354,8,FALSE()),0) -> 50882.695
B15: 482 | C15: Alblasserdam | D15: =SUM(E15:G15) -> 1592130.7 | E15: =IFERROR(VLOOKUP($B15,'WSW2025'!$R$13:$T$334,3,FALSE()),0) -> 1438473.5 | F15: =IFERROR(VLOOKUP(B15,'BESCHUT WERK 2025'!$K$13:$M$354,3,FALSE()),0) -> 129752.44 | G15: =IFERROR(VLOOKUP(B15,'SOCIALE INFRASTRUCTUUR 2025'!$K$13:$M$354,3,FALSE()),0) -> 23904.743 | I15: =SUM(J15:L15) -> 1602345.4 | J15: =IFERROR(VLOOKUP($B15,'WSW2025'!$R$13:$U$334,4,FALSE()),0) -> 1436943.8 | K15: =IFERROR(VLOOKUP(B15,'BESCHUT WERK 2025'!$K$13:$N$354,4,FALSE()),0) -> 139532.63 | L15: =IFERROR(VLOOKUP(B15,'SOCIALE INFRASTRUCTUUR 2025'!$K$13:$N$354,4,FALSE()),0) -> 25869.037 | N15: =SUM(O15:Q15) -> 1519342 | O15: =IFERROR(VLOOKUP($B15,'WSW2025'!$R$13:$V$334,5,FALSE()),0) -> 1342196.8 | P15: =IFERROR(VLOOKUP(B15,'BESCHUT WERK 2025'!$K$13:$O$354,5,FALSE()),0) -> 149309.41 | Q15: =IFERROR(VLOOKUP(B15,'SOCIALE INFRASTRUCTUUR 2025'!$K$13:$O$354,5,FALSE()),0) -> 27835.745 | S15: =SUM(T15:V15) -> 1461828.1 | T15: =IFERROR(VLOOKUP($B15,'WSW2025'!$R$13:$W$334,6,FALSE()),0) -> 1273046.9 | U15: =IFERROR(VLOOKUP(B15,'BESCHUT WERK 2025'!$K$13:$P$354,6,FALSE()),0) -> 158976.41 | V15: =IFERROR(VLOOKUP(B15,'SOCIALE INFRASTRUCTUUR 2025'!$K$13:$P$354,6,FALSE()),0) -> 29804.868 | X15: =SUM(Y15:AA15) -> 1442338.9 | Y15: =IFERROR(VLOOKUP($B15,'WSW2025'!$R$13:$X$334,7,FALSE()),0) -> 1241806.1 | Z15: =IFERROR(VLOOKUP(B15,'BESCHUT WERK 2025'!$K$13:$Q$354,7,FALSE()),0) -> 168755.21 | AA15: =IFERROR(VLOOKUP(B15,'SOCIALE INFRASTRUCTUUR 2025'!$K$13:$Q$354,7,FALSE()),0) -> 31777.613 | AC15: =SUM(AD15:AF15) -> 1288539.9 | AD15: =IFERROR(VLOOKUP($B15,'WSW2025'!$R$13:$Y$334,8,FALSE()),0) -> 1074595.3 | AE15: =IFERROR(VLOOKUP(B15,'BESCHUT WERK 2025'!$K$13:$R$354,8,FALSE()),0) -> 180022.83 | AF15: =IFERROR(VLOOKUP(B15,'SOCIALE INFRASTRUCTUUR 2025'!$K$13:$R$354,8,FALSE()),0) -> 33921.796
B16: 613 | C16: Albrandswaard | D16: =SUM(E16:G16) -> 267644.65 | E16: =IFERROR(VLOOKUP($B16,'WSW2025'!$R$13:$T$334,3,FALSE()),0) -> 0 | F16: =IFERROR(VLOOKUP(B16,'BESCHUT WERK 2025'!$K$13:$M$354,3,FALSE()),0) -> 248222.05 | G16: =IFERROR(VLOOKUP(B16,'SOCIALE INFRASTRUCTUUR 2025'!$K$13:$M$354,3,FALSE()),0) -> 19422.604 | I16: =SUM(J16:L16) -> 287950.58 | J16: =IFERROR(VLOOKUP($B16,'WSW2025'!$R$13:$U$334,4,FALSE()),0) -> 0 | K16: =IFERROR(VLOOKUP(B16,'BESCHUT WERK 2025'!$K$13:$N$354,4,FALSE()),0) -> 266931.98 | L16: =IFERROR(VLOOKUP(B16,'SOCIALE INFRASTRUCTUUR 2025'!$K$13:$N$354,4,FALSE()),0) -> 21018.593 | N16: =SUM(O16:Q16) -> 308251.93 | O16: =IFERROR(VLOOKUP($B16,'WSW2025'!$R$13:$V$334,5,FALSE()),0) -> 0 | P16: =IFERROR(VLOOKUP(B16,'BESCHUT WERK 2025'!$K$13:$O$354,5,FALSE()),0) -> 285635.39 | Q16: =IFERROR(VLOOKUP(B16,'SOCIALE INFRASTRUCTUUR 2025'!$K$13:$O$354,5,FALSE()),0) -> 22616.543 | S16: =SUM(T16:V16) -> 328345.24 | T16: =IFERROR(VLOOKUP($B16,'WSW2025'!$R$13:$W$334,6,FALSE()),0) -> 0 | U16: =IFERROR(VLOOKUP(B16,'BESCHUT WERK 2025'!$K$13:$P$354,6,FALSE()),0) -> 304128.79 | V16: =IFERROR(VLOOKUP(B16,'SOCIALE INFRASTRUCTUUR 2025'!$K$13:$P$354,6,FALSE()),0) -> 24216.456 | X16: =SUM(Y16:AA16) -> 348655.37 | Y16: =IFERROR(VLOOKUP($B16,'WSW2025'!$R$13:$X$334,7,FALSE()),0) -> 0 | Z16: =IFERROR(VLOOKUP(B16,'BESCHUT WERK 2025'!$K$13:$Q$354,7,FALSE()),0) -> 322836.06 | AA16: =IFERROR(VLOOKUP(B16,'SOCIALE INFRASTRUCTUUR 2025'!$K$13:$Q$354,7,FALSE()),0) -> 25819.311 | AC16: =SUM(AD16:AF16) -> 371952.96 | AD16: =IFERROR(VLOOKUP($B16,'WSW2025'!$R$13:$Y$334,8,FALSE()),0) -> 0 | AE16: =IFERROR(VLOOKUP(B16,'BESCHUT WERK 2025'!$K$13:$R$354,8,FALSE()),0) -> 344391.5 | AF16: =IFERROR(VLOOKUP(B16,'SOCIALE INFRASTRUCTUUR 2025'!$K$13:$R$354,8,FALSE()),0) -> 27561.46
B17: 361 | C17: Alkmaar | D17: =SUM(E17:G17) -> 13156811 | E17: =IFERROR(VLOOKUP($B17,'WSW2025'!$R$13:$T$334,3,FALSE()),0) -> 11789316 | F17: =IFERROR(VLOOKUP(B17,'BESCHUT WERK 2025'!$K$13:$M$354,3,FALSE()),0) -> 1195979 | G17: =IFERROR(VLOOKUP(B17,'SOCIALE INFRASTRUCTUUR 2025'!$K$13:$M$354,3,FALSE()),0) -> 171516.53 | I17: =SUM(J17:L17) -> 12688032 | J17: =IFERROR(VLOOKUP($B17,'WSW2025'!$R$13:$U$334,4,FALSE()),0) -> 11216295 | K17: =IFERROR(VLOOKUP(B17,'BESCHUT WERK 2025'!$K$13:$N$354,4,FALSE()),0) -> 1286126.8 | L17: =IFERROR(VLOOKUP(B17,'SOCIALE INFRASTRUCTUUR 2025'!$K$13:$N$354,4,FALSE()),0) -> 185610.34 | N17: =SUM(O17:Q17) -> 12093559 | O17: =IFERROR(VLOOKUP($B17,'WSW2025'!$R$13:$V$334,5,FALSE()),0) -> 10517594 | P17: =IFERROR(VLOOKUP(B17,'BESCHUT WERK 2025'!$K$13:$O$354,5,FALSE()),0) -> 1376243.2 | Q17: =IFERROR(VLOOKUP(B17,'SOCIALE INFRASTRUCTUUR 2025'!$K$13:$O$354,5,FALSE()),0) -> 199721.47 | S17: =SUM(T17:V17) -> 11819577 | T17: =IFERROR(VLOOKUP($B17,'WSW2025'!$R$13:$W$334,6,FALSE()),0) -> 10140380 | U17: =IFERROR(VLOOKUP(B17,'BESCHUT WERK 2025'!$K$13:$P$354,6,FALSE()),0) -> 1465347.8 | V17: =IFERROR(VLOOKUP(B17,'SOCIALE INFRASTRUCTUUR 2025'!$K$13:$P$354,6,FALSE()),0) -> 213849.93 | X17: =SUM(Y17:AA17) -> 11414401 | Y17: =IFERROR(VLOOKUP($B17,'WSW2025'!$R$13:$X$334,7,FALSE()),0) -> 9630914 | Z17: =IFERROR(VLOOKUP(B17,'BESCHUT WERK 2025'!$K$13:$Q$354,7,FALSE()),0) -> 1555482.8 | AA17: =IFERROR(VLOOKUP(B17,'SOCIALE INFRASTRUCTUUR 2025'!$K$13:$Q$354,7,FALSE()),0) -> 228004.38 | AC17: =SUM(AD17:AF17) -> 11096450 | AD17: =IFERROR(VLOOKUP($B17,'WSW2025'!$R$13:$Y$334,8,FALSE()),0) -> 9193720.7 | AE17: =IFERROR(VLOOKUP(B17,'BESCHUT WERK 2025'!$K$13:$R$354,8,FALSE()),0) -> 1659340.9 | AF17: =IFERROR(VLOOKUP(B17,'SOCIALE INFRASTRUCTUUR 2025'!$K$13:$R$354,8,FALSE()),0) -> 243388.89
B18: 141 | C18: Almelo | D18: =SUM(E18:G18) -> 12901638 | E18: =IFERROR(VLOOKUP($B18,'WSW2025'!$R$13:$T$334,3,FALSE()),0) -> 11514333 | F18: =IFERROR(VLOOKUP(B18,'BESCHUT WERK 2025'!$K$13:$M$354,3,FALSE()),0) -> 1252393.1 | G18: =IFERROR(VLOOKUP(B18,'SOCIALE INFRASTRUCTUUR 2025'!$K$13:$M$354,3,FALSE()),0) -> 134912.39 | I18: =SUM(J18:L18) -> 12519042 | J18: =IFERROR(VLOOKUP($B18,'WSW2025'!$R$13:$U$334,4,FALSE()),0) -> 11026250 | K18: =IFERROR(VLOOKUP(B18,'BESCHUT WERK 2025'!$K$13:$N$354,4,FALSE()),0) -> 1346793.2 | L18: =IFERROR(VLOOKUP(B18,'SOCIALE INFRASTRUCTUUR 2025'!$K$13:$N$354,4,FALSE()),0) -> 145998.38 | N18: =SUM(O18:Q18) -> 12133280 | O18: =IFERROR(VLOOKUP($B18,'WSW2025'!$R$13:$V$334,5,FALSE()),0) -> 10535021 | P18: =IFERROR(VLOOKUP(B18,'BESCHUT WERK 2025'!$K$13:$O$354,5,FALSE()),0) -> 1441160.4 | Q18: =IFERROR(VLOOKUP(B18,'SOCIALE INFRASTRUCTUUR 2025'!$K$13:$O$354,5,FALSE()),0) -> 157097.99 | S18: =SUM(T18:V18) -> 11520486 | T18: =IFERROR(VLOOKUP($B18,'WSW2025'!$R$13:$W$334,6,FALSE()),0) -> 9817806.5 | U18: =IFERROR(VLOOKUP(B18,'BESCHUT WERK 2025'!$K$13:$P$354,6,FALSE()),0) -> 1534468 | V18: =IFERROR(VLOOKUP(B18,'SOCIALE INFRASTRUCTUUR 2025'!$K$13:$P$354,6,FALSE()),0) -> 168211.23 | X18: =SUM(Y18:AA18) -> 10923602 | Y18: =IFERROR(VLOOKUP($B18,'WSW2025'!$R$13:$X$334,7,FALSE()),0) -> 9115402.6 | Z18: =IFERROR(VLOOKUP(B18,'BESCHUT WERK 2025'!$K$13:$Q$354,7,FALSE()),0) -> 1628854.7 | AA18: =IFERROR(VLOOKUP(B18,'SOCIALE INFRASTRUCTUUR 2025'!$K$13:$Q$354,7,FALSE()),0) -> 179344.91 | AC18: =SUM(AD18:AF18) -> 10314966 | AD18: =IFERROR(VLOOKUP($B18,'WSW2025'!$R$13:$Y$334,8,FALSE()),0) -> 8385907.9 | AE18: =IFERROR(VLOOKUP(B18,'BESCHUT WERK 2025'!$K$13:$R$354,8,FALSE()),0) -> 1737611.7 | AF18: =IFERROR(VLOOKUP(B18,'SOCIALE INFRASTRUCTUUR 2025'!$K$13:$R$354,8,FALSE()),0) -> 191446.14
B19: 34 | C19: Almere | D19: =SUM(E19:G19) -> 10731096 | E19: =IFERROR(VLOOKUP($B19,'WSW2025'!$R$13:$T$334,3,FALSE()),0) -> 8935634.7 | F19: =IFERROR(VLOOKUP(B19,'BESCHUT WERK 2025'!$K$13:$M$354,3,FALSE()),0) -> 1559849.9 | G19: =IFERROR(VLOOKUP(B19,'SOCIALE INFRASTRUCTUUR 2025'!$K$13:$M$354,3,FALSE()),0) -> 235611.13 | I19: =SUM(J19:L19) -> 10525170 | J19: =IFERROR(VLOOKUP($B19,'WSW2025'!$R$13:$U$334,4,FALSE()),0) -> 8592773.5 | K19: =IFERROR(VLOOKUP(B19,'BESCHUT WERK 2025'!$K$13:$N$354,4,FALSE()),0) -> 1677424.8 | L19: =IFERROR(VLOOKUP(B19,'SOCIALE INFRASTRUCTUUR 2025'!$K$13:$N$354,4,FALSE()),0) -> 254971.7 | N19: =SUM(O19:Q19) -> 10453376 | O19: =IFERROR(VLOOKUP($B19,'WSW2025'!$R$13:$V$334,5,FALSE()),0) -> 8384061.5 | P19: =IFERROR(VLOOKUP(B19,'BESCHUT WERK 2025'!$K$13:$O$354,5,FALSE()),0) -> 1794958.7 | Q19: =IFERROR(VLOOKUP(B19,'SOCIALE INFRASTRUCTUUR 2025'!$K$13:$O$354,5,FALSE()),0) -> 274356.07 | S19: =SUM(T19:V19) -> 10078403 | T19: =IFERROR(VLOOKUP($B19,'WSW2025'!$R$13:$W$334,6,FALSE()),0) -> 7873466 | U19: =IFERROR(VLOOKUP(B19,'BESCHUT WERK 2025'!$K$13:$P$354,6,FALSE()),0) -> 1911172.9 | V19: =IFERROR(VLOOKUP(B19,'SOCIALE INFRASTRUCTUUR 2025'!$K$13:$P$354,6,FALSE()),0) -> 293764.23 | X19: =SUM(Y19:AA19) -> 10037305 | Y19: =IFERROR(VLOOKUP($B19,'WSW2025'!$R$13:$X$334,7,FALSE()),0) -> 7695366.2 | Z19: =IFERROR(VLOOKUP(B19,'BESCHUT WERK 2025'!$K$13:$Q$354,7,FALSE()),0) -> 2028731.2 | AA19: =IFERROR(VLOOKUP(B19,'SOCIALE INFRASTRUCTUUR 2025'!$K$13:$Q$354,7,FALSE()),0) -> 313208.1 | AC19: =SUM(AD19:AF19) -> 9860063.9 | AD19: =IFERROR(VLOOKUP($B19,'WSW2025'!$R$13:$Y$334,8,FALSE()),0) -> 7361534.7 | AE19: =IFERROR(VLOOKUP(B19,'BESCHUT WERK 2025'!$K$13:$R$354,8,FALSE()),0) -> 2164187.5 | AF19: =IFERROR(VLOOKUP(B19,'SOCIALE INFRASTRUCTUUR 2025'!$K$13:$R$354,8,FALSE()),0) -> 334341.71
B20: 484 | C20: Alphen aan den Rijn | D20: =SUM(E20:G20) -> 15356113 | E20: =IFERROR(VLOOKUP($B20,'WSW2025'!$R$13:$T$334,3,FALSE()),0) -> 14376812 | F20: =IFERROR(VLOOKUP(B20,'BESCHUT WERK 2025'!$K$13:$M$354,3,FALSE()),0) -> 874418.59 | G20: =IFERROR(VLOOKUP(B20,'SOCIALE INFRASTRUCTUUR 2025'!$K$13:$M$354,3,FALSE()),0) -> 104882.06 | I20: =SUM(J20:L20) -> 14804610 | J20: =IFERROR(VLOOKUP($B20,'WSW2025'!$R$13:$U$334,4,FALSE()),0) -> 13750781 | K20: =IFERROR(VLOOKUP(B20,'BESCHUT WERK 2025'!$K$13:$N$354,4,FALSE()),0) -> 940328.58 | L20: =IFERROR(VLOOKUP(B20,'SOCIALE INFRASTRUCTUUR 2025'!$K$13:$N$354,4,FALSE()),0) -> 113500.4 | N20: =SUM(O20:Q20) -> 14282049 | O20: =IFERROR(VLOOKUP($B20,'WSW2025'!$R$13:$V$334,5,FALSE()),0) -> 13153704 | P20: =IFERROR(VLOOKUP(B20,'BESCHUT WERK 2025'!$K$13:$O$354,5,FALSE()),0) -> 1006215.6 | Q20: =IFERROR(VLOOKUP(B20,'SOCIALE INFRASTRUCTUUR 2025'!$K$13:$O$354,5,FALSE()),0) -> 122129.33 | S20: =SUM(T20:V20) -> 13917937 | T20: =IFERROR(VLOOKUP($B20,'WSW2025'!$R$13:$W$334,6,FALSE()),0) -> 12715806 | U20: =IFERROR(VLOOKUP(B20,'BESCHUT WERK 2025'!$K$13:$P$354,6,FALSE()),0) -> 1071362.8 | V20: =IFERROR(VLOOKUP(B20,'SOCIALE INFRASTRUCTUUR 2025'!$K$13:$P$354,6,FALSE()),0) -> 130768.86 | X20: =SUM(Y20:AA20) -> 13532658 | Y20: =IFERROR(VLOOKUP($B20,'WSW2025'!$R$13:$X$334,7,FALSE()),0) -> 12255970 | Z20: =IFERROR(VLOOKUP(B20,'BESCHUT WERK 2025'!$K$13:$Q$354,7,FALSE()),0) -> 1137263.4 | AA20: =IFERROR(VLOOKUP(B20,'SOCIALE INFRASTRUCTUUR 2025'!$K$13:$Q$354,7,FALSE()),0) -> 139424.28 | AC20: =SUM(AD20:AF20) -> 13025557 | AD20: =IFERROR(VLOOKUP($B20,'WSW2025'!$R$13:$Y$334,8,FALSE()),0) -> 11663528 | AE20: =IFERROR(VLOOKUP(B20,'BESCHUT WERK 2025'!$K$13:$R$354,8,FALSE()),0) -> 1213197.3 | AF20: =IFERROR(VLOOKUP(B20,'SOCIALE INFRASTRUCTUUR 2025'!$K$13:$R$354,8,FALSE()),0) -> 148831.88
B21: 1723 | C21: Alphen-Chaam | D21: =SUM(E21:G21) -> 549972.57 | E21: =IFERROR(VLOOKUP($B21,'WSW2025'!$R$13:$T$334,3,FALSE()),0) -> 532706.25 | F21: =IFERROR(VLOOKUP(B21,'BESCHUT WERK 2025'!$K$13:$M$354,3,FALSE()),0) -> 12485.372 | G21: =IFERROR(VLOOKUP(B21,'SOCIALE INFRASTRUCTUUR 2025'!$K$13:$M$354,3,FALSE()),0) -> 4780.9486 | I21: =SUM(J21:L21) -> 494762.64 | J21: =IFERROR(VLOOKUP($B21,'WSW2025'!$R$13:$U$334,4,FALSE()),0) -> 477057.97 | K21: =IFERROR(VLOOKUP(B21,'BESCHUT WERK 2025'!$K$13:$N$354,4,FALSE()),0) -> 12530.862 | L21: =IFERROR(VLOOKUP(B21,'SOCIALE INFRASTRUCTUUR 2025'!$K$13:$N$354,4,FALSE()),0) -> 5173.8074 | N21: =SUM(O21:Q21) -> 462119.16 | O21: =IFERROR(VLOOKUP($B21,'WSW2025'!$R$13:$V$334,5,FALSE()),0) -> 443568.59 | P21: =IFERROR(VLOOKUP(B21,'BESCHUT WERK 2025'!$K$13:$O$354,5,FALSE()),0) -> 12983.427 | Q21: =IFERROR(VLOOKUP(B21,'SOCIALE INFRASTRUCTUUR 2025'!$K$13:$O$354,5,FALSE()),0) -> 5567.1491 | S21: =SUM(T21:V21) -> 465395.8 | T21: =IFERROR(VLOOKUP($B21,'WSW2025'!$R$13:$W$334,6,FALSE()),0) -> 445610.79 | U21: =IFERROR(VLOOKUP(B21,'BESCHUT WERK 2025'!$K$13:$P$354,6,FALSE()),0) -> 13824.036 | V21: =IFERROR(VLOOKUP(B21,'SOCIALE INFRASTRUCTUUR 2025'!$K$13:$P$354,6,FALSE()),0) -> 5960.9737 | X21: =SUM(Y21:AA21) -> 469637.02 | Y21: =IFERROR(VLOOKUP($B21,'WSW2025'!$R$13:$X$334,7,FALSE()),0) -> 448607.13 | Z21: =IFERROR(VLOOKUP(B21,'BESCHUT WERK 2025'!$K$13:$Q$354,7,FALSE()),0) -> 14674.366 | AA21: =IFERROR(VLOOKUP(B21,'SOCIALE INFRASTRUCTUUR 2025'!$K$13:$Q$354,7,FALSE()),0) -> 6355.5227 | AC21: =SUM(AD21:AF21) -> 411223.67 | AD21: =IFERROR(VLOOKUP($B21,'WSW2025'!$R$13:$Y$334,8,FALSE()),0) -> 388785.15 | AE21: =IFERROR(VLOOKUP(B21,'BESCHUT WERK 2025'!$K$13:$R$354,8,FALSE()),0) -> 15654.159 | AF21: =IFERROR(VLOOKUP(B21,'SOCIALE INFRASTRUCTUUR 2025'!$K$13:$R$354,8,FALSE()),0) -> 6784.3593
B22: 1959 | C22: Altena | D22: =SUM(E22:G22) -> 3653669.3 | E22: =IFERROR(VLOOKUP($B22,'WSW2025'!$R$13:$T$334,3,FALSE()),0) -> 3198835.8 | F22: =IFERROR(VLOOKUP(B22,'BESCHUT WERK 2025'!$K$13:$M$354,3,FALSE()),0) -> 414643.65 | G22: =IFERROR(VLOOKUP(B22,'SOCIALE INFRASTRUCTUUR 2025'!$K$13:$M$354,3,FALSE()),0) -> 40189.85 | I22: =SUM(J22:L22) -> 3581714.2 | J22: =IFERROR(VLOOKUP($B22,'WSW2025'!$R$13:$U$334,4,FALSE()),0) -> 3092324.2 | K22: =IFERROR(VLOOKUP(B22,'BESCHUT WERK 2025'!$K$13:$N$354,4,FALSE()),0) -> 445897.74 | L22: =IFERROR(VLOOKUP(B22,'SOCIALE INFRASTRUCTUUR 2025'!$K$13:$N$354,4,FALSE()),0) -> 43492.318 | N22: =SUM(O22:Q22) -> 3525773.1 | O22: =IFERROR(VLOOKUP($B22,'WSW2025'!$R$13:$V$334,5,FALSE()),0) -> 3001833.3 | P22: =IFERROR(VLOOKUP(B22,'BESCHUT WERK 2025'!$K$13:$O$354,5,FALSE()),0) -> 477140.93 | Q22: =IFERROR(VLOOKUP(B22,'SOCIALE INFRASTRUCTUUR 2025'!$K$13:$O$354,5,FALSE()),0) -> 46798.847 | S22: =SUM(T22:V22) -> 3572610.9 | T22: =IFERROR(VLOOKUP($B22,'WSW2025'!$R$13:$W$334,6,FALSE()),0) -> 3014468.1 | U22: =IFERROR(VLOOKUP(B22,'BESCHUT WERK 2025'!$K$13:$P$354,6,FALSE()),0) -> 508033.32 | V22: =IFERROR(VLOOKUP(B22,'SOCIALE INFRASTRUCTUUR 2025'!$K$13:$P$354,6,FALSE()),0) -> 50109.435 | X22: =SUM(Y22:AA22) -> 3436598.1 | Y22: =IFERROR(VLOOKUP($B22,'WSW2025'!$R$13:$X$334,7,FALSE()),0) -> 2843889 | Z22: =IFERROR(VLOOKUP(B22,'BESCHUT WERK 2025'!$K$13:$Q$354,7,FALSE()),0) -> 539282.97 | AA22: =IFERROR(VLOOKUP(B22,'SOCIALE INFRASTRUCTUUR 2025'!$K$13:$Q$354,7,FALSE()),0) -> 53426.113 | AC22: =SUM(AD22:AF22) -> 3420447.8 | AD22: =IFERROR(VLOOKUP($B22,'WSW2025'!$R$13:$Y$334,8,FALSE()),0) -> 2788126.5 | AE22: =IFERROR(VLOOKUP(B22,'BESCHUT WERK 2025'!$K$13:$R$354,8,FALSE()),0) -> 575290.35 | AF22: =IFERROR(VLOOKUP(B22,'SOCIALE INFRASTRUCTUUR 2025'!$K$13:$R$354,8,FALSE()),0) -> 57031.02
... B352: 193 | C352: Zwolle | D352: =SUM(E352:G352) -> 15135472 | E352: =IFERROR(VLOOKUP($B352,'WSW2025'!$R$13:$T$334,3,FALSE()),0) -> 13720640 | F352: =IFERROR(VLOOKUP(B352,'BESCHUT WERK 2025'!$K$13:$M$354,3,FALSE()),0) -> 1246751.7 | G352: =IFERROR(VLOOKUP(B352,'SOCIALE INFRASTRUCTUUR 2025'!$K$13:$M$354,3,FALSE()),0) -> 168080.23 | I352: =SUM(J352:L352) -> 14662686 | J352: =IFERROR(VLOOKUP($B352,'WSW2025'!$R$13:$U$334,4,FALSE()),0) -> 13140068 | K352: =IFERROR(VLOOKUP(B352,'BESCHUT WERK 2025'!$K$13:$N$354,4,FALSE()),0) -> 1340726.6 | L352: =IFERROR(VLOOKUP(B352,'SOCIALE INFRASTRUCTUUR 2025'!$K$13:$N$354,4,FALSE()),0) -> 181891.67 | N352: =SUM(O352:Q352) -> 14281981 | O352: =IFERROR(VLOOKUP($B352,'WSW2025'!$R$13:$V$334,5,FALSE()),0) -> 12651592 | P352: =IFERROR(VLOOKUP(B352,'BESCHUT WERK 2025'!$K$13:$O$354,5,FALSE()),0) -> 1434668.6 | Q352: =IFERROR(VLOOKUP(B352,'SOCIALE INFRASTRUCTUUR 2025'!$K$13:$O$354,5,FALSE()),0) -> 195720.09 | S352: =SUM(T352:V352) -> 13637001 | T352: =IFERROR(VLOOKUP($B352,'WSW2025'!$R$13:$W$334,6,FALSE()),0) -> 11899880 | U352: =IFERROR(VLOOKUP(B352,'BESCHUT WERK 2025'!$K$13:$P$354,6,FALSE()),0) -> 1527556 | V352: =IFERROR(VLOOKUP(B352,'SOCIALE INFRASTRUCTUUR 2025'!$K$13:$P$354,6,FALSE()),0) -> 209565.48 | X352: =SUM(Y352:AA352) -> 13187501 | Y352: =IFERROR(VLOOKUP($B352,'WSW2025'!$R$13:$X$334,7,FALSE()),0) -> 11342547 | Z352: =IFERROR(VLOOKUP(B352,'BESCHUT WERK 2025'!$K$13:$Q$354,7,FALSE()),0) -> 1621517.5 | AA352: =IFERROR(VLOOKUP(B352,'SOCIALE INFRASTRUCTUUR 2025'!$K$13:$Q$354,7,FALSE()),0) -> 223436.34 | AC352: =SUM(AD352:AF352) -> 12581643 | AD352: =IFERROR(VLOOKUP($B352,'WSW2025'!$R$13:$Y$334,8,FALSE()),0) -> 10613346 | AE352: =IFERROR(VLOOKUP(B352,'BESCHUT WERK 2025'!$K$13:$R$354,8,FALSE()),0) -> 1729784.6 | AF352: =IFERROR(VLOOKUP(B352,'SOCIALE INFRASTRUCTUUR 2025'!$K$13:$R$354,8,FALSE()),0) -> 238512.63

Sheet WSW2025
A1: Specificatie verdeling Rijksbijdrage Wsw, meicirculaire 2025
B5: Stand meicirculaire 2025
B6: Gemeentelijke indeling 2025
D7: Actuele uitgangspositie | F7: Blijfkansen | L7: Gemeentelijk aandeel in landelijk budget | T7: Gemeentelijk budget in euros
D9: Gemiddelde realisatie 2024 (SE) | E9: Startgewicht voor verdeling | F9: Blijfkansen die per (laatst betalende) gemeente zijn vastgesteld o.b.v. kenmerken wsw-populatie | L9: Gewichten die bepalen welk aandeel van landelijk budget gemeenten krijgen | T9: Budgetten per gemeente
B11: CBS-code | C11: Gemeente | D11: 2024 | E11: 2024 | F11: =D11+1 -> 2025 | G11: =F11+1 -> 2026 | H11: =G11+1 -> 2027 | I11: =H11+1 -> 2028 | J11: =I11+1 -> 2029 | K11: =J11+1 -> 2030 | L11: =F11 -> 2025 | M11: =G11 -> 2026 | N11: =H11 -> 2027 | O11: =I11 -> 2028 | P11: =J11 -> 2029 | Q11: =K11 -> 2030 | R11: CBS-code | S11: Gemeente | T11: =F11 -> 2025 | U11: =G11 -> 2026 | V11: =H11 -> 2027 | W11: =I11 -> 2028 | X11: =J11 -> 2029 | Y11: =K11 -> 2030
C12: SOM | D12: =SUM(D13:D334) -> 50827.894 | E12: =SUM(E13:E334) -> 1 | L12: =SUM(L13:L334) -> 0.93183525 | M12: =SUM(M13:M334) -> 0.86557949 | N12: =SUM(N13:N334) -> 0.80085004 | O12: =SUM(O13:O334) -> 0.74187297 | P12: =SUM(P13:P334) -> 0.683779 | Q12: =SUM(Q13:Q334) -> 0.62862342 | T12: 1926748000 | U12: 1836882000 | V12: 1756020000 | W12: 1675868000 | X12: 1595718000 | Y12: 1515632000
B13: 358 | C13: Aalsmeer | D13: 22.869213 | E13: 0.00044993431 | F13: 0.896 | G13: 0.788 | H13: 0.768 | I13: 0.709 | J13: 0.639 | K13: 0.602 | L13: 0.00040314114 | M13: 0.00035454823 | N13: 0.00034554955 | O13: 0.00031900342 | P13: 0.00028750802 | Q13: 0.00027086045 | R13: =B13 -> 358 | S13: =C13 -> Aalsmeer | T13: =T$12*L13/L$12 -> 833571.58 | U13: =U$12*M13/M$12 -> 752401.45 | V13: =V$12*N13/N$12 -> 757684.82 | W13: =W$12*O13/O$12 -> 720618.82 | X13: =X$12*P13/P$12 -> 670950.3 | Y13: =Y$12*Q13/Q$12 -> 653053.57
B14: 197 | C14: Aalten | D14: 178.11227 | E14: 0.0035042229 | F14: 0.931 | G14: 0.848 | H14: 0.787 | I14: 0.711 | J14: 0.638 | K14: 0.572 | L14: 0.0032624315 | M14: 0.002971581 | N14: 0.0027578234 | O14: 0.0024915025 | P14: 0.0022356942 | Q14: 0.0020044155 | R14: =B14 -> 197 | S14: =C14 -> Aalten | T14: =T$12*L14/L$12 -> 6745702.5 | U14: =U$12*M14/M$12 -> 6306114.9 | V14: =V$12*N14/N$12 -> 6047066.1 | W14: =W$12*O14/O$12 -> 5628226.7 | X14: =X$12*P14/P$12 -> 5217383.8 | Y14: =Y$12*Q14/Q$12 -> 4832712.6
B15: 59 | C15: Achtkarspelen | D15: 138.22801 | E15: 0.0027195306 | F15: 0.933 | G15: 0.895 | H15: 0.815 | I15: 0.752 | J15: 0.702 | K15: 0.658 | L15: 0.002537322 | M15: 0.0024339798 | N15: 0.0022164174 | O15: 0.002045087 | P15: 0.0019091104 | Q15: 0.0017894511 | R15: =B15 -> 59 | S15: =C15 -> Achtkarspelen | T15: =T$12*L15/L$12 -> 5246399.6 | U15: =U$12*M15/M$12 -> 5165249.2 | V15: =V$12*N15/N$12 -> 4859927.7 | W15: =W$12*O15/O$12 -> 4619787.9 | X15: =X$12*P15/P$12 -> 4455243.4 | Y15: =Y$12*Q15/Q$12 -> 4314426.2
B16: 482 | C16: Alblasserdam | D16: 36.304398 | E16: 0.00071426132 | F16: 0.974 | G16: 0.948 | H16: 0.857 | I16: 0.789 | J16: 0.745 | K16: 0.624 | L16: 0.00069569052 | M16: 0.00067711973 | N16: 0.00061212195 | O16: 0.00056355218 | P16: 0.00053212468 | Q16: 0.00044569906 | R16: =B16 -> 482 | S16: =C16 -> Alblasserdam | T16: =T$12*L16/L$12 -> 1438473.5 | U16: =U$12*M16/M$12 -> 1436943.8 | V16: =V$12*N16/N$12 -> 1342196.8 | W16: =W$12*O16/O$12 -> 1273046.9 | X16: =X$12*P16/P$12 -> 1241806.1 | Y16: =Y$12*Q16/Q$12 -> 1074595.3
B17: 361 | C17: Alkmaar | D17: 306.6713 | E17: 0.0060335236 | F17: 0.945 | G17: 0.876 | H17: 0.795 | I17: 0.744 | J17: 0.684 | K17: 0.632 | L17: 0.0057016798 | M17: 0.0052853667 | N17: 0.0047966513 | O17: 0.0044889416 | P17: 0.0041269302 | Q17: 0.0038131869 | R17: =B17 -> 361 | S17: =C17 -> Alkmaar | T17: =T$12*L17/L$12 -> 11789316 | U17: =U$12*M17/M$12 -> 11216295 | V17: =V$12*N17/N$12 -> 10517594 | W17: =W$12*O17/O$12 -> 10140380 | X17: =X$12*P17/P$12 -> 9630914 | Y17: =Y$12*Q17/Q$12 -> 9193720.7
B18: 141 | C18: Almelo | D18: 310.69676 | E18: 0.0061127215 | F18: 0.911 | G18: 0.85 | H18: 0.786 | I18: 0.711 | J18: 0.639 | K18: 0.569 | L18: 0.0055686893 | M18: 0.0051958133 | N18: 0.0048045991 | O18: 0.004346145 | P18: 0.0039060291 | Q18: 0.0034781386 | R18: =B18 -> 141 | S18: =C18 -> Almelo | T18: =T$12*L18/L$12 -> 11514333 | U18: =U$12*M18/M$12 -> 11026250 | V18: =V$12*N18/N$12 -> 10535021 | W18: =W$12*O18/O$12 -> 9817806.5 | X18: =X$12*P18/P$12 -> 9115402.6 | Y18: =Y$12*Q18/Q$12 -> 8385907.9
B19: 34 | C19: Almere | D19: 238.75579 | E19: 0.0046973378 | F19: 0.92 | G19: 0.862 | H19: 0.814 | I19: 0.742 | J19: 0.702 | K19: 0.65 | L19: 0.0043215508 | M19: 0.0040491052 | N19: 0.003823633 | O19: 0.0034854247 | P19: 0.0032975312 | Q19: 0.0030532696 | R19: =B19 -> 34 | S19: =C19 -> Almere | T19: =T$12*L19/L$12 -> 8935634.7 | U19: =U$12*M19/M$12 -> 8592773.5 | V19: =V$12*N19/N$12 -> 8384061.5 | W19: =W$12*O19/O$12 -> 7873466 | X19: =X$12*P19/P$12 -> 7695366.2 | Y19: =Y$12*Q19/Q$12 -> 7361534.7
B20: 484 | C20: Alphen aan den Rijn | D20: 375.96817 | E20: 0.0073968867 | F20: 0.94 | G20: 0.876 | H20: 0.811 | I20: 0.761 | J20: 0.71 | K20: 0.654 | L20: 0.0069530735 | M20: 0.0064796728 | N20: 0.0059988751 | O20: 0.0056290308 | P20: 0.0052517896 | Q20: 0.0048375639 | R20: =B20 -> 484 | S20: =C20 -> Alphen aan den Rijn | T20: =T$12*L20/L$12 -> 14376812 | U20: =U$12*M20/M$12 -> 13750781 | V20: =V$12*N20/N$12 -> 13153704 | W20: =W$12*O20/O$12 -> 12715806 | X20: =X$12*P20/P$12 -> 12255970 | Y20: =Y$12*Q20/Q$12 -> 11663528
B21: 1723 | C21: Alphen-Chaam | D21: 13.458333 | E21: 0.00026478243 | F21: 0.973 | G21: 0.849 | H21: 0.764 | I21: 0.745 | J21: 0.726 | K21: 0.609 | L21: 0.00025763331 | M21: 0.00022480029 | N21: 0.00020229378 | O21: 0.00019726291 | P21: 0.00019223205 | Q21: 0.0001612525 | R21: =B21 -> 1723 | S21: =C21 -> Alphen-Chaam | T21: =T$12*L21/L$12 -> 532706.25 | U21: =U$12*M21/M$12 -> 477057.97 | V21: =V$12*N21/N$12 -> 443568.59 | W21: =W$12*O21/O$12 -> 445610.79 | X21: =X$12*P21/P$12 -> 448607.13 | Y21: =Y$12*Q21/Q$12 -> 388785.15
B22: 1959 | C22: Altena | D22: 87.858796 | E22: 0.0017285547 | F22: 0.895 | G22: 0.843 | H22: 0.792 | I22: 0.772 | J22: 0.705 | K22: 0.669 | L22: 0.0015470565 | M22: 0.0014571716 | N22: 0.0013690154 | O22: 0.0013344443 | P22: 0.0012186311 | Q22: 0.0011564031 | R22: =B22 -> 1959 | S22: =C22 -> Altena | T22: =T$12*L22/L$12 -> 3198835.8 | U22: =U$12*M22/M$12 -> 3092324.2 | V22: =V$12*N22/N$12 -> 3001833.3 | W22: =W$12*O22/O$12 -> 3014468.1 | X22: =X$12*P22/P$12 -> 2843889 | Y22: =Y$12*Q22/Q$12 -> 2788126.5
B23: 60 | C23: Ameland | D23: 5.8888889 | E23: 0.00011585939 | F23: 0.976 | G23: 0.95 | H23: 0.926 | I23: 0.901 | J23: 0.875 | K23: 0.85 | L23: 0.00011307877 | M23: 0.00011006642 | N23: 0.0001072858 | O23: 0.00010438931 | P23: 0.00010137697 | Q23: 9.8480484e-05 | R23: =B23 -> 60 | S23: =C23 -> Ameland | T23: =T$12*L23/L$12 -> 233812.03 | U23: =U$12*M23/M$12 -> 233576.5 | V23: =V$12*N23/N$12 -> 235245.05 | W23: =W$12*O23/O$12 -> 235812.21 | X23: =X$12*P23/P$12 -> 236580.9 | Y23: =Y$12*Q23/Q$12 -> 237439.73
B24: 307 | C24: Amersfoort | D24: 462.58738 | E24: 0.0091010536 | F24: 0.937 | G24: 0.872 | H24: 0.808 | I24: 0.743 | J24: 0.694 | K24: 0.646 | L24: 0.0085276872 | M24: 0.0079361188 | N24: 0.0073536513 | O24: 0.0067620828 | P24: 0.0063161312 | Q24: 0.0058792806 | R24: =B24 -> 307 | S24: =C24 -> Amersfoort | T24: =T$12*L24/L$12 -> 17632628 | U24: =U$12*M24/M$12 -> 16841566 | V24: =V$12*N24/N$12 -> 16124316 | W24: =W$12*O24/O$12 -> 15275335 | X24: =X$12*P24/P$12 -> 14739798 | Y24: =Y$12*Q24/Q$12 -> 14175141
... B334: 193 | C334: Zwolle | D334: 369.82465 | E334: 0.0072760177 | F334: 0.912 | G334: 0.851 | H334: 0.793 | I334: 0.724 | J334: 0.668 | K334: 0.605 | L334: 0.0066357281 | M334: 0.0061918911 | N334: 0.005769882 | O334: 0.0052678368 | P334: 0.0048603798 | Q334: 0.0044019907 | R334: =B334 -> 193 | S334: =C334 -> Zwolle | T334: =T$12*L334/L$12 -> 13720640 | U334: =U$12*M334/M$12 -> 13140068 | V334: =V$12*N334/N$12 -> 12651592 | W334: =W$12*O334/O$12 -> 11899880 | X334: =X$12*P334/P$12 -> 11342547 | Y334: =Y$12*Q334/Q$12 -> 10613346
B336: Gemeenten die geen budget ontvangen:
B337: 1680 | C337: Aa en Hunze | D337: 0
B338: 613 | C338: Albrandswaard | D338: 0
B339: 744 | C339: Baarle-Nassau | D339: 0
B340: 489 | C340: Barendrecht | D340: 0
B341: 523 | C341: Hardinxveld-Giessendam | D341: 0
B342: 1884 | C342: Kaag en Braassem | D342: 0
B343: 547 | C343: Leiderdorp | D343: 0
B344: 1842 | C344: Midden-Delfland | D344: 0
B345: 1731 | C345: Midden-Drenthe | D345: 0
B346: 569 | C346: Nieuwkoop | D346: 0
B347: 431 | C347: Oostzaan | D347: 0
B348: 1926 | C348: Pijnacker-Nootdorp | D348: 0
... B356: 638 | C356: Zoeterwoude | D356: 0

Sheet BESCHUT WERK 2025
A1: Specificatie verdeling Rijksbijdrage beschut werk, meicirculaire 2025
B5: Stand meicirculaire 2025
B6: Gemeentelijke indeling 2025
E7: Aandeel instroom | F7: Aandeel instroom | G7: Aandeel instroom | H7: Aandeel instroom | I7: Aandeel instroom | J7: Aandeel instroom
E8: doelgroep | F8: doelgroep | G8: doelgroep | H8: doelgroep | I8: doelgroep | J8: doelgroep
E9: incl. drempel van | F9: incl. drempel van | G9: incl. drempel van | H9: incl. drempel van | I9: incl. drempel van | J9: incl. drempel van
D10: Aandeel instroom | E10: 12485 | F10: 12531 | G10: 12571 | H10: 12597 | I10: 12628 | J10: 12667
B11: CBS-code | C11: Gemeente | D11: doelgroep - basis | E11: 2025 | F11: =E11+1 -> 2026 | G11: =F11+1 -> 2027 | H11: =G11+1 -> 2028 | I11: =H11+1 -> 2029 | J11: =I11+1 -> 2030 | K11: CBS-code | L11: Gemeente | M11: =E11 -> 2025 | N11: =F11 -> 2026 | O11: =G11 -> 2027 | P11: =H11 -> 2028 | Q11: =I11 -> 2029 | R11: =J11 -> 2030
C12: SOM | E12: =SUM(E13:E354) -> 1 | F12: =SUM(F13:F354) -> 1 | G12: =SUM(G13:G354) -> 1 | H12: =SUM(H13:H354) -> 1 | I12: =SUM(I13:I354) -> 1 | J12: =SUM(J13:J354) -> 1 | L12: SOM | M12: 143949000 | N12: 154793000 | O12: 165634000 | P12: 176354000 | Q12: 187198000 | R12: 199693000
B13: 1680 | C13: Aa en Hunze | D13: 0.00086247452 | E13: 0.00086218748 | F13: 0.0008622224 | G13: 0.00086224865 | H13: 0.0008622679 | I13: 0.00086228502 | J13: 0.00086230239 | K13: 1680 | L13: Aa en Hunze | M13: =E13/E$12*M$12 -> 124111.03 | N13: =F13/F$12*N$12 -> 133465.99 | O13: =G13/G$12*O$12 -> 142817.69 | P13: =H13/H$12*P$12 -> 152064.39 | Q13: =I13/I$12*Q$12 -> 161418.03 | R13: =J13/J$12*R$12 -> 172195.75
B14: 358 | C14: Aalsmeer | D14: 0.00078406774 | E14: 0.0007838068 | F14: 0.00078383854 | G14: 0.00078386241 | H14: 0.00078387991 | I14: 0.00078389547 | J14: 0.00078391126 | K14: 358 | L14: Aalsmeer | M14: =E14/E$12*M$12 -> 112828.2 | N14: =F14/F$12*N$12 -> 121332.72 | O14: =G14/G$12*O$12 -> 129834.27 | P14: =H14/H$12*P$12 -> 138240.36 | Q14: =I14/I$12*Q$12 -> 146743.66 | R14: =J14/J$12*R$12 -> 156541.59
B15: 197 | C15: Aalten | D15: 0.00094088129 | E15: 0.00094056816 | F15: 0.00094060625 | G15: 0.00094063489 | H15: 0.00094065589 | I15: 0.00094067456 | J15: 0.00094069351 | K15: 197 | L15: Aalten | M15: =E15/E$12*M$12 -> 135393.85 | N15: =F15/F$12*N$12 -> 145599.26 | O15: =G15/G$12*O$12 -> 155801.12 | P15: =H15/H$12*P$12 -> 165888.43 | Q15: =I15/I$12*Q$12 -> 176092.4 | R15: =J15/J$12*R$12 -> 187849.91
B16: 59 | C16: Achtkarspelen | D16: 0.0011564999 | E16: 0.001156115 | F16: 0.0011561618 | G16: 0.0011561971 | H16: 0.0011562229 | I16: 0.0011562458 | J16: 0.0011562691 | K16: 59 | L16: Achtkarspelen | M16: =E16/E$12*M$12 -> 166421.6 | N16: =F16/F$12*N$12 -> 178965.76 | O16: =G16/G$12*O$12 -> 191505.54 | P16: =H16/H$12*P$12 -> 203904.53 | Q16: =I16/I$12*Q$12 -> 216446.9 | R16: =J16/J$12*R$12 -> 230898.85
B17: 482 | C17: Alblasserdam | D17: 0.0009016779 | E17: 0.00090137782 | F17: 0.00090141432 | G17: 0.00090144177 | H17: 0.0009014619 | I17: 0.00090147979 | J17: 0.00090149795 | K17: 482 | L17: Alblasserdam | M17: =E17/E$12*M$12 -> 129752.44 | N17: =F17/F$12*N$12 -> 139532.63 | O17: =G17/G$12*O$12 -> 149309.41 | P17: =H17/H$12*P$12 -> 158976.41 | Q17: =I17/I$12*Q$12 -> 168755.21 | R17: =J17/J$12*R$12 -> 180022.83
B18: 613 | C18: Albrandswaard | D18: 0.001724949 | E18: 0.001724375 | F18: 0.0017244448 | G18: 0.0017244973 | H18: 0.0017245358 | I18: 0.00172457 | J18: 0.0017246048 | K18: 613 | L18: Albrandswaard | M18: =E18/E$12*M$12 -> 248222.05 | N18: =F18/F$12*N$12 -> 266931.98 | O18: =G18/G$12*O$12 -> 285635.39 | P18: =H18/H$12*P$12 -> 304128.79 | Q18: =I18/I$12*Q$12 -> 322836.06 | R18: =J18/J$12*R$12 -> 344391.5
B19: 361 | C19: Alkmaar | D19: 0.0083111181 | E19: 0.0083083521 | F19: 0.0083086885 | G19: 0.0083089415 | H19: 0.0083091271 | I19: 0.008309292 | J19: 0.0083094594 | K19: 361 | L19: Alkmaar | M19: =E19/E$12*M$12 -> 1195979 | N19: =F19/F$12*N$12 -> 1286126.8 | O19: =G19/G$12*O$12 -> 1376243.2 | P19: =H19/H$12*P$12 -> 1465347.8 | Q19: =I19/I$12*Q$12 -> 1555482.8 | R19: =J19/J$12*R$12 -> 1659340.9
B20: 141 | C20: Almelo | D20: 0.008703152 | E20: 0.0087002555 | F20: 0.0087006078 | G20: 0.0087008727 | H20: 0.008701067 | I20: 0.0087012397 | J20: 0.008701415 | K20: 141 | L20: Almelo | M20: =E20/E$12*M$12 -> 1252393.1 | N20: =F20/F$12*N$12 -> 1346793.2 | O20: =G20/G$12*O$12 -> 1441160.4 | P20: =H20/H$12*P$12 -> 1534468 | Q20: =I20/I$12*Q$12 -> 1628854.7 | R20: =J20/J$12*R$12 -> 1737611.7
B21: 34 | C21: Almere | D21: 0.010839737 | E21: 0.010836129 | F21: 0.010836568 | G21: 0.010836898 | H21: 0.01083714 | I21: 0.010837355 | J21: 0.010837573 | K21: 34 | L21: Almere | M21: =E21/E$12*M$12 -> 1559849.9 | N21: =F21/F$12*N$12 -> 1677424.8 | O21: =G21/G$12*O$12 -> 1794958.7 | P21: =H21/H$12*P$12 -> 1911172.9 | Q21: =I21/I$12*Q$12 -> 2028731.2 | R21: =J21/J$12*R$12 -> 2164187.5
B22: 484 | C22: Alphen aan den Rijn | D22: 0.006076525 | E22: 0.0060745027 | F22: 0.0060747487 | G22: 0.0060749337 | H22: 0.0060750693 | I22: 0.0060751899 | J22: 0.0060753123 | K22: 484 | L22: Alphen aan den Rijn | M22: =E22/E$12*M$12 -> 874418.59 | N22: =F22/F$12*N$12 -> 940328.58 | O22: =G22/G$12*O$12 -> 1006215.6 | P22: =H22/H$12*P$12 -> 1071362.8 | Q22: =I22/I$12*Q$12 -> 1137263.4 | R22: =J22/J$12*R$12 -> 1213197.3
B23: 1723 | C23: Alphen-Chaam | D23: 7.8406774e-05 | E23: 8.6734694e-05 | F23: 8.0952381e-05 | G23: 7.8386241e-05 | H23: 7.8387991e-05 | I23: 7.8389547e-05 | J23: 7.8391126e-05 | K23: 1723 | L23: Alphen-Chaam | M23: =E23/E$12*M$12 -> 12485.372 | N23: =F23/F$12*N$12 -> 12530.862 | O23: =G23/G$12*O$12 -> 12983.427 | P23: =H23/H$12*P$12 -> 13824.036 | Q23: =I23/I$12*Q$12 -> 14674.366 | R23: =J23/J$12*R$12 -> 15654.159
B24: 1959 | C24: Altena | D24: 0.002881449 | E24: 0.00288049 | F24: 0.0028806066 | G24: 0.0028806943 | H24: 0.0028807587 | I24: 0.0028808159 | J24: 0.0028808739 | K24: 1959 | L24: Altena | M24: =E24/E$12*M$12 -> 414643.65 | N24: =F24/F$12*N$12 -> 445897.74 | O24: =G24/G$12*O$12 -> 477140.93 | P24: =H24/H$12*P$12 -> 508033.32 | Q24: =I24/I$12*Q$12 -> 539282.97 | R24: =J24/J$12*R$12 -> 575290.35
... B354: 193 | C354: Zwolle | D354: 0.0086639486 | E354: 0.0086610651 | F354: 0.0086614159 | G354: 0.0086616796 | H354: 0.008661873 | I354: 0.0086620449 | J354: 0.0086622194 | K354: 193 | L354: Zwolle | M354: =E354/E$12*M$12 -> 1246751.7 | N354: =F354/F$12*N$12 -> 1340726.6 | O354: =G354/G$12*O$12 -> 1434668.6 | P354: =H354/H$12*P$12 -> 1527556 | Q354: =I354/I$12*Q$12 -> 1621517.5 | R354: =J354/J$12*R$12 -> 1729784.6

Sheet SOCIALE INFRASTRUCTUUR 2025
A1: Specificatie verdeling Rijksbijdrage sociale infrastructuur, meicirculaire 2025
B5: Stand meicirculaire 2025
B6: Gemeentelijke indeling 2025
D7: Aantallen | E7: Gemeentelijk aandeel in landelijk budget | M7: Gemeentelijk budget in euros
D9: Personen in het doelgroepenregister gemeentelijke doelgroep | E9: Gewichten die bepalen welk aandeel van landelijk budget gemeenten krijgen. Deze worden jaarlijks aangepast op basis van de meest recente cijfers over het doelgroepenregister. | M9: Budgetten per gemeente
B11: CBS-code | C11: Gemeente | D11: 2024 | E11: =D11+1 -> 2025 | F11: =E11+1 -> 2026 | G11: =F11+1 -> 2027 | H11: =G11+1 -> 2028 | I11: =H11+1 -> 2029 | J11: =I11+1 -> 2030 | K11: CBS-code | L11: Gemeente | M11: =D11+1 -> 2025 | N11: =M11+1 -> 2026 | O11: =N11+1 -> 2027 | P11: =O11+1 -> 2028 | Q11: =P11+1 -> 2029 | R11: =Q11+1 -> 2030
C12: SOM | D12: =SUM(D13:D354) -> 132526 | E12: =SUM(E13:E354) -> 1 | F12: =SUM(F13:F354) -> 1 | G12: =SUM(G13:G354) -> 1 | H12: =SUM(H13:H354) -> 1 | I12: =SUM(I13:I354) -> 1 | J12: =SUM(J13:J354) -> 1 | M12: 19800000 | N12: 21427000 | O12: 23056000 | P12: 24687000 | Q12: 26321000 | R12: 28097000
B13: 1680 | C13: Aa en Hunze | D13: 153 | E13: =D13/$D$12 -> 0.0011544904 | F13: =E13 -> 0.0011544904 | G13: =F13 -> 0.0011544904 | H13: =G13 -> 0.0011544904 | I13: =H13 -> 0.0011544904 | J13: =I13 -> 0.0011544904 | K13: =B13 -> 1680 | L13: =C13 -> Aa en Hunze | M13: =M$12*E13 -> 22858.911 | N13: =N$12*F13 -> 24737.267 | O13: =O$12*G13 -> 26617.932 | P13: =P$12*H13 -> 28500.905 | Q13: =Q$12*I13 -> 30387.343 | R13: =R$12*J13 -> 32437.718
B14: 358 | C14: Aalsmeer | D14: 116 | E14: =D14/$D$12 -> 0.00087529994 | F14: =E14 -> 0.00087529994 | G14: =F14 -> 0.00087529994 | H14: =G14 -> 0.00087529994 | I14: =H14 -> 0.00087529994 | J14: =I14 -> 0.00087529994 | K14: =B14 -> 358 | L14: =C14 -> Aalsmeer | M14: =M$12*E14 -> 17330.939 | N14: =N$12*F14 -> 18755.052 | O14: =O$12*G14 -> 20180.915 | P14: =P$12*H14 -> 21608.53 | Q14: =Q$12*I14 -> 23038.77 | R14: =R$12*J14 -> 24593.302
B15: 197 | C15: Aalten | D15: 217 | E15: =D15/$D$12 -> 0.0016374145 | F15: =E15 -> 0.0016374145 | G15: =F15 -> 0.0016374145 | H15: =G15 -> 0.0016374145 | I15: =H15 -> 0.0016374145 | J15: =I15 -> 0.0016374145 | K15: =B15 -> 197 | L15: =C15 -> Aalten | M15: =M$12*E15 -> 32420.808 | N15: =N$12*F15 -> 35084.881 | O15: =O$12*G15 -> 37752.23 | P15: =P$12*H15 -> 40422.853 | Q15: =Q$12*I15 -> 43098.388 | R15: =R$12*J15 -> 46006.436
B16: 59 | C16: Achtkarspelen | D16: 240 | E16: =D16/$D$12 -> 0.0018109654 | F16: =E16 -> 0.0018109654 | G16: =F16 -> 0.0018109654 | H16: =G16 -> 0.0018109654 | I16: =H16 -> 0.0018109654 | J16: =I16 -> 0.0018109654 | K16: =B16 -> 59 | L16: =C16 -> Achtkarspelen | M16: =M$12*E16 -> 35857.115 | N16: =N$12*F16 -> 38803.556 | O16: =O$12*G16 -> 41753.618 | P16: =P$12*H16 -> 44707.303 | Q16: =Q$12*I16 -> 47666.42 | R16: =R$12*J16 -> 50882.695
B17: 482 | C17: Alblasserdam | D17: 160 | E17: =D17/$D$12 -> 0.0012073103 | F17: =E17 -> 0.0012073103 | G17: =F17 -> 0.0012073103 | H17: =G17 -> 0.0012073103 | I17: =H17 -> 0.0012073103 | J17: =I17 -> 0.0012073103 | K17: =B17 -> 482 | L17: =C17 -> Alblasserdam | M17: =M$12*E17 -> 23904.743 | N17: =N$12*F17 -> 25869.037 | O17: =O$12*G17 -> 27835.745 | P17: =P$12*H17 -> 29804.868 | Q17: =Q$12*I17 -> 31777.613 | R17: =R$12*J17 -> 33921.796
B18: 613 | C18: Albrandswaard | D18: 130 | E18: =D18/$D$12 -> 0.00098093959 | F18: =E18 -> 0.00098093959 | G18: =F18 -> 0.00098093959 | H18: =G18 -> 0.00098093959 | I18: =H18 -> 0.00098093959 | J18: =I18 -> 0.00098093959 | K18: =B18 -> 613 | L18: =C18 -> Albrandswaard | M18: =M$12*E18 -> 19422.604 | N18: =N$12*F18 -> 21018.593 | O18: =O$12*G18 -> 22616.543 | P18: =P$12*H18 -> 24216.456 | Q18: =Q$12*I18 -> 25819.311 | R18: =R$12*J18 -> 27561.46
B19: 361 | C19: Alkmaar | D19: 1148 | E19: =D19/$D$12 -> 0.0086624511 | F19: =E19 -> 0.0086624511 | G19: =F19 -> 0.0086624511 | H19: =G19 -> 0.0086624511 | I19: =H19 -> 0.0086624511 | J19: =I19 -> 0.0086624511 | K19: =B19 -> 361 | L19: =C19 -> Alkmaar | M19: =M$12*E19 -> 171516.53 | N19: =N$12*F19 -> 185610.34 | O19: =O$12*G19 -> 199721.47 | P19: =P$12*H19 -> 213849.93 | Q19: =Q$12*I19 -> 228004.38 | R19: =R$12*J19 -> 243388.89
B20: 141 | C20: Almelo | D20: 903 | E20: =D20/$D$12 -> 0.0068137573 | F20: =E20 -> 0.0068137573 | G20: =F20 -> 0.0068137573 | H20: =G20 -> 0.0068137573 | I20: =H20 -> 0.0068137573 | J20: =I20 -> 0.0068137573 | K20: =B20 -> 141 | L20: =C20 -> Almelo | M20: =M$12*E20 -> 134912.39 | N20: =N$12*F20 -> 145998.38 | O20: =O$12*G20 -> 157097.99 | P20: =P$12*H20 -> 168211.23 | Q20: =Q$12*I20 -> 179344.91 | R20: =R$12*J20 -> 191446.14
B21: 34 | C21: Almere | D21: 1577 | E21: =D21/$D$12 -> 0.011899552 | F21: =E21 -> 0.011899552 | G21: =F21 -> 0.011899552 | H21: =G21 -> 0.011899552 | I21: =H21 -> 0.011899552 | J21: =I21 -> 0.011899552 | K21: =B21 -> 34 | L21: =C21 -> Almere | M21: =M$12*E21 -> 235611.13 | N21: =N$12*F21 -> 254971.7 | O21: =O$12*G21 -> 274356.07 | P21: =P$12*H21 -> 293764.23 | Q21: =Q$12*I21 -> 313208.1 | R21: =R$12*J21 -> 334341.71
B22: 484 | C22: Alphen aan den Rijn | D22: 702 | E22: =D22/$D$12 -> 0.0052970738 | F22: =E22 -> 0.0052970738 | G22: =F22 -> 0.0052970738 | H22: =G22 -> 0.0052970738 | I22: =H22 -> 0.0052970738 | J22: =I22 -> 0.0052970738 | K22: =B22 -> 484 | L22: =C22 -> Alphen aan den Rijn | M22: =M$12*E22 -> 104882.06 | N22: =N$12*F22 -> 113500.4 | O22: =O$12*G22 -> 122129.33 | P22: =P$12*H22 -> 130768.86 | Q22: =Q$12*I22 -> 139424.28 | R22: =R$12*J22 -> 148831.88
B23: 1723 | C23: Alphen-Chaam | D23: 32 | E23: =D23/$D$12 -> 0.00024146205 | F23: =E23 -> 0.00024146205 | G23: =F23 -> 0.00024146205 | H23: =G23 -> 0.00024146205 | I23: =H23 -> 0.00024146205 | J23: =I23 -> 0.00024146205 | K23: =B23 -> 1723 | L23: =C23 -> Alphen-Chaam | M23: =M$12*E23 -> 4780.9486 | N23: =N$12*F23 -> 5173.8074 | O23: =O$12*G23 -> 5567.1491 | P23: =P$12*H23 -> 5960.9737 | Q23: =Q$12*I23 -> 6355.5227 | R23: =R$12*J23 -> 6784.3593
B24: 1959 | C24: Altena | D24: 269 | E24: =D24/$D$12 -> 0.0020297904 | F24: =E24 -> 0.0020297904 | G24: =F24 -> 0.0020297904 | H24: =G24 -> 0.0020297904 | I24: =H24 -> 0.0020297904 | J24: =I24 -> 0.0020297904 | K24: =B24 -> 1959 | L24: =C24 -> Altena | M24: =M$12*E24 -> 40189.85 | N24: =N$12*F24 -> 43492.318 | O24: =O$12*G24 -> 46798.847 | P24: =P$12*H24 -> 50109.435 | Q24: =Q$12*I24 -> 53426.113 | R24: =R$12*J24 -> 57031.02
... B354: 193 | C354: Zwolle | D354: 1125 | E354: =D354/$D$12 -> 0.0084889003 | F354: =E354 -> 0.0084889003 | G354: =F354 -> 0.0084889003 | H354: =G354 -> 0.0084889003 | I354: =H354 -> 0.0084889003 | J354: =I354 -> 0.0084889003 | K354: =B354 -> 193 | L354: =C354 -> Zwolle | M354: =M$12*E354 -> 168080.23 | N354: =N$12*F354 -> 181891.67 | O354: =O$12*G354 -> 195720.09 | P354: =P$12*H354 -> 209565.48 | Q354: =Q$12*I354 -> 223436.34 | R354: =R$12*J354 -> 238512.63

Sheet Participatie_2024_-_2029
C3: 1 | D3: 2 | E3: 3 | F3: 4 | G3: 5 | H3: 6 | I3: 7 | J3: 8 | K3: 9 | L3: 10 | M3: 11 | N3: 12 | O3: 13 | P3: 14 | Q3: 15 | R3: 16 | S3: 17 | T3: 18 | U3: 19 | V3: 20 | W3: 21 | X3: 22 | Y3: 23 | Z3: 24
B5: Stand septembercirculaire 2024
B6: Gemeentelijke indeling 2024
D7: 2024 | H7: 2025 | L7: 2026 | P7: 2027 | T7: 2028 | X7: 2029
B9: CBS-code | C9: Gemeente | D9: Totaal budget | E9: Beschut werk | F9: WSW | H9: Totaal budget | I9: Beschut werk | J9: WSW | L9: Totaal budget | M9: Beschut werk | N9: WSW | P9: Totaal budget | Q9: Beschut werk | R9: WSW | T9: Totaal budget | U9: Beschut werk | V9: WSW | X9: Totaal budget | Y9: Beschut werk | Z9: WSW
C10: TOTAAL | D10: =SUM(D11:D352) -> 2.070911e+09 | E10: =SUM(E11:E352) -> 1.21121e+08 | F10: =SUM(F11:F352) -> 1.94979e+09 | H10: =SUM(H11:H352) -> 1.959386e+09 | I10: =SUM(I11:I352) -> 1.37335e+08 | J10: =SUM(J11:J352) -> 1.822051e+09 | L10: =SUM(L11:L352) -> 1.892842e+09 | M10: =SUM(M11:M352) -> 1.47681e+08 | N10: =SUM(N11:N352) -> 1745161000 | P10: =SUM(P11:P352) -> 1.82636e+09 | Q10: =SUM(Q11:Q352) -> 1.58025e+08 | R10: =SUM(R11:R352)+1000 -> 1.668336e+09 | T10: =SUM(T11:T352) -> 1.760438e+09 | U10: =SUM(U11:U352) -> 168251000 | V10: =SUM(V11:V352) -> 1.592187e+09 | X10: =SUM(X11:X352) -> 1.694636e+09 | Y10: =SUM(Y11:Y352) -> 1.78597e+08 | Z10: =SUM(Z11:Z352) -> 1.516039e+09
B11: 1680 | C11: Aa en Hunze | D11: =SUM(E11:F11) -> 104424.24 | E11: =[1]beschut_werk!L13 -> 104424.24 | F11: =IFERROR(VLOOKUP($B11,[1]WSW!$R$13:$Y$335,3,FALSE()),0) -> 0 | H11: =SUM(I11:J11) -> 118412.23 | I11: =[1]beschut_werk!M13 -> 118412.23 | J11: =IFERROR(VLOOKUP($B11,[1]WSW!$R$13:$Y$335,4,FALSE()),0) -> 0 | L11: =SUM(M11:N11) -> 127336.93 | M11: =[1]beschut_werk!N13 -> 127336.93 | N11: =IFERROR(VLOOKUP($B11,[1]WSW!$R$13:$Y$335,5,FALSE()),0) -> 0 | P11: =SUM(Q11:R11) -> 136259.41 | Q11: =[1]beschut_werk!O13 -> 136259.41 | R11: =IFERROR(VLOOKUP($B11,[1]WSW!$R$13:$Y$335,6,FALSE()),0) -> 0 | T11: =SUM(U11:V11) -> 145080.11 | U11: =[1]beschut_werk!P13 -> 145080.11 | V11: =IFERROR(VLOOKUP($B11,[1]WSW!$R$13:$Y$335,7,FALSE()),0) -> 0 | X11: =SUM(Y11:Z11) -> 154003.89 | Y11: =[1]beschut_werk!Q13 -> 154003.89 | Z11: =IFERROR(VLOOKUP($B11,[1]WSW!$R$13:$Y$335,8,FALSE()),0) -> 0
B12: 358 | C12: Aalsmeer | D12: =SUM(E12:F12) -> 905442 | E12: =[1]beschut_werk!L14 -> 94931.124 | F12: =IFERROR(VLOOKUP($B12,[1]WSW!$R$13:$Y$335,3,FALSE()),0) -> 810510.88 | H12: =SUM(I12:J12) -> 832410.72 | I12: =[1]beschut_werk!M14 -> 107647.48 | J12: =IFERROR(VLOOKUP($B12,[1]WSW!$R$13:$Y$335,4,FALSE()),0) -> 724763.24 | L12: =SUM(M12:N12) -> 774795.21 | M12: =[1]beschut_werk!N14 -> 115760.84 | N12: =IFERROR(VLOOKUP($B12,[1]WSW!$R$13:$Y$335,5,FALSE()),0) -> 659034.37 | P12: =SUM(Q12:R12) -> 787808.42 | Q12: =[1]beschut_werk!O14 -> 123872.19 | R12: =IFERROR(VLOOKUP($B12,[1]WSW!$R$13:$Y$335,6,FALSE()),0) -> 663936.23 | T12: =SUM(U12:V12) -> 764174.53 | U12: =[1]beschut_werk!P14 -> 131891.01 | V12: =IFERROR(VLOOKUP($B12,[1]WSW!$R$13:$Y$335,7,FALSE()),0) -> 632283.52 | X12: =SUM(Y12:Z12) -> 763099.9 | Y12: =[1]beschut_werk!Q14 -> 140003.54 | Z12: =IFERROR(VLOOKUP($B12,[1]WSW!$R$13:$Y$335,8,FALSE()),0) -> 623096.36
B13: 197 | C13: Aalten | D13: =SUM(E13:F13) -> 7065373.4 | E13: =[1]beschut_werk!L15 -> 113917.35 | F13: =IFERROR(VLOOKUP($B13,[1]WSW!$R$13:$Y$335,3,FALSE()),0) -> 6951456.1 | H13: =SUM(I13:J13) -> 6627721.1 | I13: =[1]beschut_werk!M15 -> 129176.98 | J13: =IFERROR(VLOOKUP($B13,[1]WSW!$R$13:$Y$335,4,FALSE()),0) -> 6498544.1 | L13: =SUM(M13:N13) -> 6243683.5 | M13: =[1]beschut_werk!N15 -> 138913.01 | N13: =IFERROR(VLOOKUP($B13,[1]WSW!$R$13:$Y$335,5,FALSE()),0) -> 6104770.5 | P13: =SUM(Q13:R13) -> 6014269.2 | Q13: =[1]beschut_werk!O15 -> 148646.63 | R13: =IFERROR(VLOOKUP($B13,[1]WSW!$R$13:$Y$335,6,FALSE()),0) -> 5865622.5 | T13: =SUM(U13:V13) -> 5589322.7 | U13: =[1]beschut_werk!P15 -> 158269.21 | V13: =IFERROR(VLOOKUP($B13,[1]WSW!$R$13:$Y$335,7,FALSE()),0) -> 5431053.5 | X13: =SUM(Y13:Z13) -> 5220171.4 | Y13: =[1]beschut_werk!Q15 -> 168004.25 | Z13: =IFERROR(VLOOKUP($B13,[1]WSW!$R$13:$Y$335,8,FALSE()),0) -> 5052167.2
B14: 59 | C14: Achtkarspelen | D14: =SUM(E14:F14) -> 5430281.5 | E14: =[1]beschut_werk!L16 -> 140023.41 | F14: =IFERROR(VLOOKUP($B14,[1]WSW!$R$13:$Y$335,3,FALSE()),0) -> 5290258 | H14: =SUM(I14:J14) -> 5116363.7 | I14: =[1]beschut_werk!M16 -> 158780.04 | J14: =IFERROR(VLOOKUP($B14,[1]WSW!$R$13:$Y$335,4,FALSE()),0) -> 4957583.7 | L14: =SUM(M14:N14) -> 5008905.6 | M14: =[1]beschut_werk!N16 -> 170747.24 | N14: =IFERROR(VLOOKUP($B14,[1]WSW!$R$13:$Y$335,5,FALSE()),0) -> 4838158.4 | P14: =SUM(Q14:R14) -> 4738430.9 | Q14: =[1]beschut_werk!O16 -> 182711.48 | R14: =IFERROR(VLOOKUP($B14,[1]WSW!$R$13:$Y$335,6,FALSE()),0) -> 4555719.5 | T14: =SUM(U14:V14) -> 4483837.9 | U14: =[1]beschut_werk!P16 -> 194539.24 | V14: =IFERROR(VLOOKUP($B14,[1]WSW!$R$13:$Y$335,7,FALSE()),0) -> 4289298.6 | X14: =SUM(Y14:Z14) -> 4353393.1 | Y14: =[1]beschut_werk!Q16 -> 206505.22 | Z14: =IFERROR(VLOOKUP($B14,[1]WSW!$R$13:$Y$335,8,FALSE()),0) -> 4146887.8
